BEGIN:VCALENDAR
VERSION:2.0
PRODID:spatie/icalendar-generator
DESCRIPTION:Events from The Midwest Pipe Band Association
X-WR-CALDESC:Events from The Midwest Pipe Band Association
REFRESH-INTERVAL;VALUE=DURATION:PT1440M
X-PUBLISHED-TTL:PT1440M
BEGIN:VTIMEZONE
TZID:America/Chicago
BEGIN:STANDARD
DTSTART:20251102T020000Z
TZOFFSETFROM:-0500
TZOFFSETTO:-0600
END:STANDARD
BEGIN:DAYLIGHT
DTSTART:20260308T020000Z
TZOFFSETFROM:-0600
TZOFFSETTO:-0500
END:DAYLIGHT
END:VTIMEZONE
BEGIN:VTIMEZONE
TZID:UTC
BEGIN:STANDARD
DTSTART:20250725T152739Z
TZOFFSETFROM:+0000
TZOFFSETTO:+0000
END:STANDARD
END:VTIMEZONE
BEGIN:VEVENT
UID:32-6
DTSTAMP:20260421T152739Z
SUMMARY:Winter Storm Pipes and Drums Event\, Kansas City
LOCATION:
ORGANIZER;CN=Stuart Barr:MAILTO:stuartjbarr@gmail.com
DTSTART;TZID=America/Chicago;VALUE=DATE:20260115
DTEND;TZID=America/Chicago;VALUE=DATE:20260119
X-ALT-DESC;FMTTYPE=TEXT/HTML:<p>https://mhaf.org/</p>\n
CATEGORIES:General
URL;VALUE=URI:https://www.mwpba.org/mc-events/winter-storm-pipes-and-drums-
 event-kansas-city/
METHOD:PUBLISH
END:VEVENT
END:VCALENDAR