BEGIN:VCALENDAR
VERSION:2.0
PRODID:spatie/icalendar-generator
DESCRIPTION:Events from The Midwest Pipe Band Association
X-WR-CALDESC:Events from The Midwest Pipe Band Association
REFRESH-INTERVAL;VALUE=DURATION:PT1440M
X-PUBLISHED-TTL:PT1440M
BEGIN:VTIMEZONE
TZID:America/Chicago
BEGIN:STANDARD
DTSTART:20251102T020000Z
TZOFFSETFROM:-0500
TZOFFSETTO:-0600
END:STANDARD
BEGIN:DAYLIGHT
DTSTART:20260308T020000Z
TZOFFSETFROM:-0600
TZOFFSETTO:-0500
END:DAYLIGHT
END:VTIMEZONE
BEGIN:VTIMEZONE
TZID:UTC
BEGIN:STANDARD
DTSTART:20250725T153037Z
TZOFFSETFROM:+0000
TZOFFSETTO:+0000
END:STANDARD
END:VTIMEZONE
BEGIN:VEVENT
UID:26-21
DTSTAMP:20260421T153037Z
SUMMARY:MWPBA Education Series: Michael Grey - Small Strathspeys &amp;amp\; Ree
 ls
LOCATION:
ORGANIZER;CN=Administrator:MAILTO:webmaster@mwpba.org
DTSTART;TZID=America/Chicago:20260128T190000
DTEND;TZID=America/Chicago:20260128T200000
X-ALT-DESC;FMTTYPE=TEXT/HTML:
CATEGORIES:General
URL;VALUE=URI:https://www.mwpba.org/mc-events/mwpba-education-series-michae
 l-grey-small-strathspeys-reels/
METHOD:PUBLISH
END:VEVENT
END:VCALENDAR